BEGIN:VCALENDAR
VERSION:2.0
PRODID:-//eventon.com NONSGML v1.0//EN
CALSCALE:GREGORIAN
METHOD:PUBLISH
BEGIN:VEVENT
UID:69e60985b39f2
DTSTAMP:20260420T110957Z
DTSTART:20230221T190000Z
DTEND:20230221T203000Z
LOCATION:Sporthalle Effey Schule Amselweg 9
SUMMARY:TG Voerde vs. TV Rüggeberg
DESCRIPTION:\nhttps://www.tgvoerde.de/events/tg-voerde-vs-tv-rueggeberg/
URL:https://www.tgvoerde.de/events/tg-voerde-vs-tv-rueggeberg/
END:VEVENT
END:VCALENDAR