BEGIN:VCALENDAR
VERSION:2.0
PRODID:-//eventon.com NONSGML v1.0//EN
CALSCALE:GREGORIAN
METHOD:PUBLISH
BEGIN:VEVENT
UID:69e6099d598c8
DTSTAMP:20260420T111021Z
DTSTART:20230419T180000Z
DTEND:20230419T193000Z
LOCATION:
SUMMARY:TVR Pritsch Perfect vs. TG Voerde
DESCRIPTION:\nhttps://www.tgvoerde.de/events/tvr-pritsch-perfect-vs-tg-voer
 de/
URL:https://www.tgvoerde.de/events/tvr-pritsch-perfect-vs-tg-voerde/
END:VEVENT
END:VCALENDAR