BEGIN:VCALENDAR
VERSION:2.0
PRODID:-//eventon.com NONSGML v1.0//EN
CALSCALE:GREGORIAN
METHOD:PUBLISH
BEGIN:VEVENT
UID:69e5e3188306e
DTSTAMP:20260420T082600Z
DTSTART:20230511T163000Z
DTEND:20230511T180000Z
LOCATION:Sporthalle Effey Schule Amselweg 9
SUMMARY:TG Voerde vs. SE Gevelsberg
DESCRIPTION:\nhttps://www.tgvoerde.de/events/tg-voerde-vs-se-gevelsberg/
URL:https://www.tgvoerde.de/events/tg-voerde-vs-se-gevelsberg/
END:VEVENT
END:VCALENDAR