BEGIN:VCALENDAR
VERSION:2.0
PRODID:-//eventon.com NONSGML v1.0//EN
CALSCALE:GREGORIAN
METHOD:PUBLISH
BEGIN:VEVENT
UID:69e887aa42635
DTSTAMP:20260422T083242Z
DTSTART:20230303T190000Z
DTEND:20230303T225000Z
LOCATION:Vereinsheim der Turngemeinde Voerde von 1862 e.V. Loher Str. 146
SUMMARY:Mitgliederversammlung (JHV) 2023
DESCRIPTION:Einladung zur Mitgliederversammlung 2023am Freitag\,  den 03. 
 März 2023 im Gymnastikraum der Turnhalle\,  Loher Straße 146\,  58256 Enn
 epetal Beginn: 20:00 UhrTagesordnung:1. Begrüßung2. Totenehrung3. Protok
 oll der Mitgliederversammlung 20224. Ehrungen5. Bericht des Vorstandes6. Be
 richt der Kassenprüfer und Entlastung des Vorstandes7. Wahlen zum Vorstand
 8. Wahlen zu Kassenprüfer/innen9. Anträge10. Anregung und Mitteilungen An
 schließend gemütliches Beisammensein. Anträge[..]\nhttps://www.tgvoerde.
 de/events/mitgliederversammlung-jhv-2023/
URL:https://www.tgvoerde.de/events/mitgliederversammlung-jhv-2023/
END:VEVENT
END:VCALENDAR