BEGIN:VCALENDAR
VERSION:2.0
PRODID:-//eventon.com NONSGML v1.0//EN
CALSCALE:GREGORIAN
METHOD:PUBLISH
BEGIN:VEVENT
UID:69e5e36506ec6
DTSTAMP:20260420T082717Z
DTSTART:20230920T163000Z
DTEND:20230920T180000Z
LOCATION:
SUMMARY:SV Haspe 70 5 vs TGV 2
DESCRIPTION:\nhttps://www.tgvoerde.de/events/sv-haspe-70-5-vs-tgv-2/
URL:https://www.tgvoerde.de/events/sv-haspe-70-5-vs-tgv-2/
END:VEVENT
END:VCALENDAR