BEGIN:VCALENDAR
VERSION:2.0
PRODID:-//eventon.com NONSGML v1.0//EN
CALSCALE:GREGORIAN
METHOD:PUBLISH
BEGIN:VEVENT
UID:69e738cc16fe3
DTSTAMP:20260421T084356Z
DTSTART:20231121T184500Z
DTEND:20231121T201500Z
LOCATION:Sporthalle Sonderschule Oberbauer Siegerlandstraße 12\,  58256 Ennepetal
SUMMARY:TGV 2 vs SC Concordia Hagen
DESCRIPTION:\nhttps://www.tgvoerde.de/events/tgv-2-vs-sc-concordia-hagen/
URL:https://www.tgvoerde.de/events/tgv-2-vs-sc-concordia-hagen/
END:VEVENT
END:VCALENDAR