BEGIN:VCALENDAR
VERSION:2.0
PRODID:-//eventon.com NONSGML v1.0//EN
CALSCALE:GREGORIAN
METHOD:PUBLISH
BEGIN:VEVENT
UID:69eb2d35a913a
DTSTAMP:20260424T084333Z
DTSTART:20240119T183000Z
DTEND:20240119T200000Z
LOCATION:
SUMMARY:TSV Vorhalle 2 vs TGV 2
DESCRIPTION:\nhttps://www.tgvoerde.de/events/tsv-vorhalle-2-vs-tgv-2/
URL:https://www.tgvoerde.de/events/tsv-vorhalle-2-vs-tgv-2/
END:VEVENT
END:VCALENDAR