BEGIN:VCALENDAR
VERSION:2.0
PRODID:-//eventon.com NONSGML v1.0//EN
CALSCALE:GREGORIAN
METHOD:PUBLISH
BEGIN:VEVENT
UID:69eb2d35a8062
DTSTAMP:20260424T084333Z
DTSTART:20240427T140000Z
DTEND:20240427T153000Z
LOCATION:Sporthalle Reichenbach-Gymnasium Peddinghausstr. 17\,  58256 Ennepetal
SUMMARY:TGV 2 vs BSC Hagen
DESCRIPTION:\nhttps://www.tgvoerde.de/events/tgv-2-vs-bsc-hagen/
URL:https://www.tgvoerde.de/events/tgv-2-vs-bsc-hagen/
END:VEVENT
END:VCALENDAR