BEGIN:VCALENDAR
VERSION:2.0
PRODID:-//eventon.com NONSGML v1.0//EN
CALSCALE:GREGORIAN
METHOD:PUBLISH
BEGIN:VEVENT
UID:69e74e57033b5
DTSTAMP:20260421T101551Z
DTSTART:20230827
DTEND:20230828
LOCATION:Sporthalle Reichenbach-Gymnasium Peddinghausstr. 17\,  58256 Ennepetal
SUMMARY:Saisonstart: Handball Herren
DESCRIPTION:\nhttps://www.tgvoerde.de/events/saisonstart-handball-herren/
URL:https://www.tgvoerde.de/events/saisonstart-handball-herren/
END:VEVENT
END:VCALENDAR