BEGIN:VCALENDAR
VERSION:2.0
PRODID:-//eventon.com NONSGML v1.0//EN
CALSCALE:GREGORIAN
METHOD:PUBLISH
BEGIN:VEVENT
UID:69ea4cf1a954e
DTSTAMP:20260423T164641Z
DTSTART:20231111T181500Z
DTEND:20231111T193000Z
LOCATION:Gevelsberg West Am Hofe 10\,  58285 Gevelsberg
SUMMARY:HSG Gevelsberg Silschede vs TGV 1. Herren
DESCRIPTION:\nhttps://www.tgvoerde.de/events/hsg-gevelsberg-silschede-vs-tg
 v-1-herren/
URL:https://www.tgvoerde.de/events/hsg-gevelsberg-silschede-vs-tgv-1-herren/
END:VEVENT
END:VCALENDAR