BEGIN:VCALENDAR
VERSION:2.0
PRODID:-//eventon.com NONSGML v1.0//EN
CALSCALE:GREGORIAN
METHOD:PUBLISH
BEGIN:VEVENT
UID:69e738cc1518b
DTSTAMP:20260421T084356Z
DTSTART:20231203T160000Z
DTEND:20231203T183000Z
LOCATION:Sporthalle Reichenbach-Gymnasium Peddinghausstr. 17\,  58256 Ennepetal
SUMMARY:TGV 1. Herren vs DJK SG Bösperde
DESCRIPTION:\nhttps://www.tgvoerde.de/events/tgv-1-herren-vs-djk-sg-boesper
 de/
URL:https://www.tgvoerde.de/events/tgv-1-herren-vs-djk-sg-boesperde/
END:VEVENT
END:VCALENDAR