BEGIN:VCALENDAR
VERSION:2.0
PRODID:-//eventon.com NONSGML v1.0//EN
CALSCALE:GREGORIAN
METHOD:PUBLISH
BEGIN:VEVENT
UID:69e902734af97
DTSTAMP:20260422T171635Z
DTSTART:20230903T141500Z
DTEND:20230903T154500Z
LOCATION:Berufskolleg Ennepetal Wilhelmshöherstraße 12\,  58256 Ennepetal
SUMMARY:TGV 2. Herren vs HSG Wetter/Grundschöttel
DESCRIPTION:\nhttps://www.tgvoerde.de/events/tgv-2-herren-vs-hsg-wetter-gru
 ndschoettel/
URL:https://www.tgvoerde.de/events/tgv-2-herren-vs-hsg-wetter-grundschoettel/
END:VEVENT
END:VCALENDAR