BEGIN:VCALENDAR
VERSION:2.0
PRODID:-//eventon.com NONSGML v1.0//EN
CALSCALE:GREGORIAN
METHOD:PUBLISH
BEGIN:VEVENT
UID:69e8a084818ef
DTSTAMP:20260422T101844Z
DTSTART:20230917T110000Z
DTEND:20230917T133000Z
LOCATION:Sporthalle Reichenbach-Gymnasium Peddinghausstr. 17\,  58256 Ennepetal
SUMMARY:TGV 2. Herren vs CVJM Gevelsberg
DESCRIPTION:\nhttps://www.tgvoerde.de/events/tgv-2-herren-vs-cvjm-gevelsber
 g/
URL:https://www.tgvoerde.de/events/tgv-2-herren-vs-cvjm-gevelsberg/
END:VEVENT
END:VCALENDAR