BEGIN:VCALENDAR
VERSION:2.0
PRODID:-//eventon.com NONSGML v1.0//EN
CALSCALE:GREGORIAN
METHOD:PUBLISH
BEGIN:VEVENT
UID:69e74d338a510
DTSTAMP:20260421T101059Z
DTSTART:20231105T120000Z
DTEND:20231105T133000Z
LOCATION:Sporthalle Reichenbach-Gymnasium Peddinghausstr. 17\,  58256 Ennepetal
SUMMARY:TGV 2. Herren vs SG TuRa Halden-Herdecke 2
DESCRIPTION:\nhttps://www.tgvoerde.de/events/tgv-2-herren-vs-sg-tura-halden
 -herdecke-2/
URL:https://www.tgvoerde.de/events/tgv-2-herren-vs-sg-tura-halden-herdecke-2/
END:VEVENT
END:VCALENDAR