BEGIN:VCALENDAR
VERSION:2.0
PRODID:-//eventon.com NONSGML v1.0//EN
CALSCALE:GREGORIAN
METHOD:PUBLISH
BEGIN:VEVENT
UID:69e8872be1968
DTSTAMP:20260422T083035Z
DTSTART:20231217T120000Z
DTEND:20231217T133000Z
LOCATION:Sporthalle Reichenbach-Gymnasium Peddinghausstr. 17\,  58256 Ennepetal
SUMMARY:TGV 2. Herren vs Selbecker Turnerschaft 2
DESCRIPTION:\nhttps://www.tgvoerde.de/events/tgv-2-herren-vs-selbecker-turn
 erschaft-2/
URL:https://www.tgvoerde.de/events/tgv-2-herren-vs-selbecker-turnerschaft-2/
END:VEVENT
END:VCALENDAR