BEGIN:VCALENDAR
VERSION:2.0
PRODID:-//eventon.com NONSGML v1.0//EN
CALSCALE:GREGORIAN
METHOD:PUBLISH
BEGIN:VEVENT
UID:69e76d20ba433
DTSTAMP:20260421T122712Z
DTSTART:20240309T143000Z
DTEND:20240309T160000Z
LOCATION:
SUMMARY:TuS Volmetal 1887 vs TGV 1. Damen
DESCRIPTION:\nhttps://www.tgvoerde.de/events/tus-volmetal-1887-vs-tgv-1-dam
 en/
URL:https://www.tgvoerde.de/events/tus-volmetal-1887-vs-tgv-1-damen/
END:VEVENT
END:VCALENDAR