BEGIN:VCALENDAR
VERSION:2.0
PRODID:-//eventon.com NONSGML v1.0//EN
CALSCALE:GREGORIAN
METHOD:PUBLISH
BEGIN:VEVENT
UID:69e88b2b9ad3f
DTSTAMP:20260422T084739Z
DTSTART:20230903T121500Z
DTEND:20230903T134500Z
LOCATION:
SUMMARY:Selbecker Turnerschaft 2 vs TGV 2. Damen
DESCRIPTION:\nhttps://www.tgvoerde.de/events/selbecker-turnerschaft-2-vs-tg
 v-2-damen/
URL:https://www.tgvoerde.de/events/selbecker-turnerschaft-2-vs-tgv-2-damen/
END:VEVENT
END:VCALENDAR