BEGIN:VCALENDAR
VERSION:2.0
PRODID:-//eventon.com NONSGML v1.0//EN
CALSCALE:GREGORIAN
METHOD:PUBLISH
BEGIN:VEVENT
UID:69e5e391dd399
DTSTAMP:20260420T082801Z
DTSTART:20240115T190000Z
DTEND:20240115T203000Z
LOCATION:
SUMMARY:TGV vs. Eintracht Vogelsang
DESCRIPTION:\nhttps://www.tgvoerde.de/events/tgv-vs-eintracht-vogelsang/
URL:https://www.tgvoerde.de/events/tgv-vs-eintracht-vogelsang/
END:VEVENT
END:VCALENDAR