BEGIN:VCALENDAR
VERSION:2.0
PRODID:-//eventon.com NONSGML v1.0//EN
CALSCALE:GREGORIAN
METHOD:PUBLISH
BEGIN:VEVENT
UID:69e73bfbf1a99
DTSTAMP:20260421T085731Z
DTSTART:20250322T180000Z
DTEND:20250322T203000Z
LOCATION:
SUMMARY:FC Schalke 04 vs TGV
DESCRIPTION:\nhttps://www.tgvoerde.de/events/fc-schalke-04-vs-tgv/
URL:https://www.tgvoerde.de/events/fc-schalke-04-vs-tgv/
END:VEVENT
END:VCALENDAR