BEGIN:VCALENDAR
VERSION:2.0
PRODID:-//eventon.com NONSGML v1.0//EN
CALSCALE:GREGORIAN
METHOD:PUBLISH
BEGIN:VEVENT
UID:69e887698e959
DTSTAMP:20260422T083137Z
DTSTART:20241016T160000Z
DTEND:20241016T180000Z
LOCATION:Sporthalle Reichenbach-Gymnasium Peddinghausstr. 17\,  58256 Ennepetal
SUMMARY:TGV 2 vs BSC Hagen
DESCRIPTION:\nhttps://www.tgvoerde.de/events/tgv-2-vs-bsc-hagen-2/
URL:https://www.tgvoerde.de/events/tgv-2-vs-bsc-hagen-2/
END:VEVENT
END:VCALENDAR