BEGIN:VCALENDAR
VERSION:2.0
PRODID:-//eventon.com NONSGML v1.0//EN
CALSCALE:GREGORIAN
METHOD:PUBLISH
BEGIN:VEVENT
UID:69e73b8bc8cb1
DTSTAMP:20260421T085539Z
DTSTART:20241209T200000Z
DTEND:20241209T220000Z
LOCATION:Sporthalle Effey Schule Amselweg 9
SUMMARY:TGV vs CVJM Rüggeberg
DESCRIPTION:\nhttps://www.tgvoerde.de/events/tgv-vs-cvjm-rueggeberg-2/
URL:https://www.tgvoerde.de/events/tgv-vs-cvjm-rueggeberg-2/
END:VEVENT
END:VCALENDAR