BEGIN:VCALENDAR
VERSION:2.0
PRODID:-//eventon.com NONSGML v1.0//EN
CALSCALE:GREGORIAN
METHOD:PUBLISH
BEGIN:VEVENT
UID:69e5e3303b555
DTSTAMP:20260420T082624Z
DTSTART:20241104T200000Z
DTEND:20241104T220000Z
LOCATION:Sporthalle Effey Schule Amselweg 9
SUMMARY:TGV vs DJK Sümmern Mixed
DESCRIPTION:\nhttps://www.tgvoerde.de/events/tgv-vs-djk-suemmern-mixed/
URL:https://www.tgvoerde.de/events/tgv-vs-djk-suemmern-mixed/
END:VEVENT
END:VCALENDAR