BEGIN:VCALENDAR
VERSION:2.0
PRODID:-//eventon.com NONSGML v1.0//EN
CALSCALE:GREGORIAN
METHOD:PUBLISH
BEGIN:VEVENT
UID:69e73b8c20d86
DTSTAMP:20260421T085540Z
DTSTART:20250519T200000Z
DTEND:20250519T220000Z
LOCATION:Sporthalle Effey Schule Amselweg 9
SUMMARY:TGV vs TSV Dahl
DESCRIPTION:\nhttps://www.tgvoerde.de/events/tgv-vs-tsv-dahl-2/
URL:https://www.tgvoerde.de/events/tgv-vs-tsv-dahl-2/
END:VEVENT
END:VCALENDAR