BEGIN:VCALENDAR
VERSION:2.0
PRODID:-//eventon.com NONSGML v1.0//EN
CALSCALE:GREGORIAN
METHOD:PUBLISH
BEGIN:VEVENT
UID:69ec310163cd1
DTSTAMP:20260425T031201Z
DTSTART:20221211T110000Z
DTEND:20221211T123000Z
LOCATION:
SUMMARY:VFL Eintracht Hagen vs. 2. Damen
DESCRIPTION:RÜCKRUNDE Die zweiten Damen der Turngemeinde werden gegen die 
 Damenmannschaft der VFL HAGEN antreten.  Kommt vorbei und feuert sie an!&n
 bsp; #wirsindvoerde #Saison2022/23\nhttps://www.tgvoerde.de/events/vfl-eint
 racht-hagen-vs-2-damen/
URL:https://www.tgvoerde.de/events/vfl-eintracht-hagen-vs-2-damen/
END:VEVENT
END:VCALENDAR