BEGIN:VCALENDAR
VERSION:2.0
PRODID:-//eventon.com NONSGML v1.0//EN
CALSCALE:GREGORIAN
METHOD:PUBLISH
BEGIN:VEVENT
UID:69e89ad881b47
DTSTAMP:20260422T095432Z
DTSTART:20221127T123000Z
DTEND:20221127T140000Z
LOCATION:Sporthalle Reichenbach-Gymnasium Peddinghausstr. 17\,  58256 Ennepetal
SUMMARY:2. Herren vs. CVJM Gevelsberg
DESCRIPTION:Die zweiten Herren der Turngemeinde Voerde werden gegen die Her
 renmannschaft der CVJM Gevelsberg antreten. Kommt vorbei und feuert sie an!
  #wirsindvoerde #saison2022/23\nhttps://www.tgvoerde.de/events/2-herren-vs-
 cvjm-gevelsberg/
URL:https://www.tgvoerde.de/events/2-herren-vs-cvjm-gevelsberg/
END:VEVENT
END:VCALENDAR