BEGIN:VCALENDAR
VERSION:2.0
PRODID:-//eventon.com NONSGML v1.0//EN
CALSCALE:GREGORIAN
METHOD:PUBLISH
BEGIN:VEVENT
UID:69e5e3233e102
DTSTAMP:20260420T082611Z
DTSTART:20221030T140000Z
DTEND:20221030T153000Z
LOCATION:Sporthalle Reichenbach-Gymnasium Peddinghausstr. 17\,  58256 Ennepetal
SUMMARY:1. Damen vs. SG Attendorn-Ennest
DESCRIPTION:Die erste Damen der Turngemeinde Voerde werden gegen die Damenm
 annschaft der SG Attendorn-Ennest antreten. Kommt vorbei und feuert sie an!
  #wirsindvoerde #saison2022/23\nhttps://www.tgvoerde.de/events/1-damen-vs-s
 g-attendorn-ennest/
URL:https://www.tgvoerde.de/events/1-damen-vs-sg-attendorn-ennest/
END:VEVENT
END:VCALENDAR