BEGIN:VCALENDAR
VERSION:2.0
PRODID:-//eventon.com NONSGML v1.0//EN
CALSCALE:GREGORIAN
METHOD:PUBLISH
BEGIN:VEVENT
UID:69e5e30ed6265
DTSTAMP:20260420T082550Z
DTSTART:20221127T140000Z
DTEND:20221127T153000Z
LOCATION:Sporthalle Reichenbach-Gymnasium Peddinghausstr. 17\,  58256 Ennepetal
SUMMARY:1. Damen vs. RSVE Siegen
DESCRIPTION:Die erste Damen der Turngemeinde Voerde werden gegen die Damenm
 annschaft der RSVE Siegen antreten. Kommt vorbei und feuert sie an! #wirsin
 dvoerde #saison2022/23\nhttps://www.tgvoerde.de/events/1-damen-vs-rsve-sieg
 en/
URL:https://www.tgvoerde.de/events/1-damen-vs-rsve-siegen/
END:VEVENT
END:VCALENDAR