BEGIN:VCALENDAR
VERSION:2.0
PRODID:-//eventon.com NONSGML v1.0//EN
CALSCALE:GREGORIAN
METHOD:PUBLISH
BEGIN:VEVENT
UID:69e5e2c6a7fc2
DTSTAMP:20260420T082438Z
DTSTART:20230122T160000Z
DTEND:20230122T180000Z
LOCATION:Sporthalle Reichenbach-Gymnasium Peddinghausstr. 17\,  58256 Ennepetal
SUMMARY:1. Herren vs. TV Westfalia Halingen
DESCRIPTION:Rückrunde Die erste Herren der Turngemeinde Voerde werden gege
 n die Herrenmannschaft der TV Halingen antreten. Kommt vorbei und feuert si
 e an! #wirsindvoerde #saison2022/23\nhttps://www.tgvoerde.de/events/1-herre
 n-vs-tv-westfalia-halingen/
URL:https://www.tgvoerde.de/events/1-herren-vs-tv-westfalia-halingen/
END:VEVENT
END:VCALENDAR