BEGIN:VCALENDAR
VERSION:2.0
PRODID:-//eventon.com NONSGML v1.0//EN
CALSCALE:GREGORIAN
METHOD:PUBLISH
BEGIN:VEVENT
UID:69e88729b4c6d
DTSTAMP:20260422T083033Z
DTSTART:20230203T190000Z
DTEND:20230203T203000Z
LOCATION:
SUMMARY:BBA Hagen vs. 1. Herren
DESCRIPTION:Rückrunde\nhttps://www.tgvoerde.de/events/bba-hagen-vs-1-herre
 n/
URL:https://www.tgvoerde.de/events/bba-hagen-vs-1-herren/
END:VEVENT
END:VCALENDAR