BEGIN:VCALENDAR
VERSION:2.0
PRODID:-//eventon.com NONSGML v1.0//EN
CALSCALE:GREGORIAN
METHOD:PUBLISH
BEGIN:VEVENT
UID:69e9da52857a3
DTSTAMP:20260423T083738Z
DTSTART:20230215T190000Z
DTEND:20230215T203500Z
LOCATION:Sporthalle Effey Schule Amselweg 9
SUMMARY:TG Voerde vs. TSV Dahl 1878
DESCRIPTION:\nhttps://www.tgvoerde.de/events/tg-voerde-vs-tsv-dahl-1878/
URL:https://www.tgvoerde.de/events/tg-voerde-vs-tsv-dahl-1878/
END:VEVENT
END:VCALENDAR